Package: mdqc Version: 1.69.0 Command: rm -rf mdqc.buildbin-libdir && mkdir mdqc.buildbin-libdir && /Users/biocbuild/BBS/utils/build-universal.sh mdqc_1.69.0.tar.gz /Library/Frameworks/R.framework/Resources/bin/R mdqc.buildbin-libdir StartedAt: 2025-02-19 22:27:44 -0500 (Wed, 19 Feb 2025) EndedAt: 2025-02-19 22:27:46 -0500 (Wed, 19 Feb 2025) EllapsedTime: 2.0 seconds RetCode: 0 Status: OK PackageFile: mdqc_1.69.0.tgz PackageFileSize: 297.5 <A href="http://en.wikipedia.org/wiki/KiB" target="_blank">KiB</A>