##############################################################################
##############################################################################
###
### Running command:
###
###   rm -rf mdqc.buildbin-libdir && mkdir mdqc.buildbin-libdir && /Users/biocbuild/BBS/utils/build-universal.sh mdqc_1.69.0.tar.gz /Library/Frameworks/R.framework/Resources/bin/R mdqc.buildbin-libdir
###
##############################################################################
##############################################################################


>>>>>>> 
>>>>>>> INSTALLATION WITH 'R CMD INSTALL --preclean --no-multiarch --library=mdqc.buildbin-libdir mdqc_1.69.0.tar.gz'
>>>>>>> 

* installing *source* package ‘mdqc’ ...
** this is package ‘mdqc’ version ‘1.69.0’
** using staged installation
** R
** data
** inst
** byte-compile and prepare package for lazy loading
** help
*** installing help indices
** building package indices
** installing vignettes
** testing if installed package can be loaded from temporary location
** testing if installed package can be loaded from final location
** testing if installed package keeps a record of temporary installation path
* DONE (mdqc)