Package: mdp
Version: 1.27.0
Maintainer: Helder Nakaya
MaintainerEmail: hnakaya at usp.br
git_url: https://git.bioconductor.org/packages/mdp
git_branch: devel
git_last_commit: ddf480d
git_last_commit_date: 2024-10-29 10:27:53 -0500 (Tue, 29 Oct 2024)