Package: mbQTL
Version: 1.7.0
Command: chmod a+r mbQTL -R && E:\biocbuild\bbs-3.21-bioc\R\bin\R.exe CMD build --keep-empty-dirs --no-resave-data mbQTL
StartedAt: 2025-02-19 19:44:13 -0500 (Wed, 19 Feb 2025)
EndedAt: 2025-02-19 19:45:49 -0500 (Wed, 19 Feb 2025)
EllapsedTime: 96.5 seconds
RetCode: 0
Status: OK
PackageFile: mbQTL_1.7.0.tar.gz
PackageFileSize: 731.5 <A href="http://en.wikipedia.org/wiki/KiB" target="_blank">KiB</A>