Package: mbQTL Version: 1.7.0 Command: rm -rf mbQTL.buildbin-libdir && mkdir mbQTL.buildbin-libdir && E:\biocbuild\bbs-3.21-bioc\R\bin\R.exe CMD INSTALL --build --library=mbQTL.buildbin-libdir mbQTL_1.7.0.tar.gz StartedAt: 2025-02-20 08:07:01 -0500 (Thu, 20 Feb 2025) EndedAt: 2025-02-20 08:07:19 -0500 (Thu, 20 Feb 2025) EllapsedTime: 17.8 seconds RetCode: 0 Status: OK PackageFile: mbQTL_1.7.0.zip PackageFileSize: 785.1 <A href="http://en.wikipedia.org/wiki/KiB" target="_blank">KiB</A>