Package: mbQTL
Version: 1.7.0
Command: /Library/Frameworks/R.framework/Resources/bin/R CMD INSTALL mbQTL
StartedAt: 2025-02-19 15:37:26 -0500 (Wed, 19 Feb 2025)
EndedAt: 2025-02-19 15:37:40 -0500 (Wed, 19 Feb 2025)
EllapsedTime: 13.8 seconds
RetCode: 0
Status: OK