Package: mbQTL
Version: 1.7.0
Command: /Library/Frameworks/R.framework/Resources/bin/R CMD check --install=check:mbQTL.install-out.txt --library=/Library/Frameworks/R.framework/Resources/library --no-vignettes --timings mbQTL_1.7.0.tar.gz
StartedAt: 2025-02-19 21:24:56 -0500 (Wed, 19 Feb 2025)
EndedAt: 2025-02-19 21:26:34 -0500 (Wed, 19 Feb 2025)
EllapsedTime: 98.8 seconds
RetCode: 0
Status: OK
CheckDir: mbQTL.Rcheck
Warnings: 0