Package: mbQTL
Version: 1.7.0
Command: /Library/Frameworks/R.framework/Resources/bin/R CMD build --keep-empty-dirs --no-resave-data mbQTL
StartedAt: 2025-02-19 17:13:50 -0500 (Wed, 19 Feb 2025)
EndedAt: 2025-02-19 17:15:07 -0500 (Wed, 19 Feb 2025)
EllapsedTime: 77.5 seconds
RetCode: 0
Status: OK
PackageFile: mbQTL_1.7.0.tar.gz
PackageFileSize: 1.459 <A href="http://en.wikipedia.org/wiki/MiB" target="_blank">MiB</A>