Package: mbQTL Version: 1.7.0 Command: rm -rf mbQTL.buildbin-libdir && mkdir mbQTL.buildbin-libdir && /Users/biocbuild/BBS/utils/build-universal.sh mbQTL_1.7.0.tar.gz /Library/Frameworks/R.framework/Resources/bin/R mbQTL.buildbin-libdir StartedAt: 2025-02-20 00:39:45 -0500 (Thu, 20 Feb 2025) EndedAt: 2025-02-20 00:40:02 -0500 (Thu, 20 Feb 2025) EllapsedTime: 17.3 seconds RetCode: 0 Status: OK PackageFile: mbQTL_1.7.0.tgz PackageFileSize: 1.51 <A href="http://en.wikipedia.org/wiki/MiB" target="_blank">MiB</A>