Package: mapscape Version: 1.31.0 Command: chmod a+r mapscape -R && E:\biocbuild\bbs-3.21-bioc\R\bin\R.exe CMD build --keep-empty-dirs --no-resave-data mapscape StartedAt: 2025-02-04 19:40:17 -0500 (Tue, 04 Feb 2025) EndedAt: 2025-02-04 19:40:39 -0500 (Tue, 04 Feb 2025) EllapsedTime: 21.8 seconds RetCode: 0 Status: OK PackageFile: mapscape_1.31.0.tar.gz PackageFileSize: 4.795 MiB