Package: mapscape Version: 1.31.0 Command: /Library/Frameworks/R.framework/Resources/bin/R CMD build --keep-empty-dirs --no-resave-data mapscape StartedAt: 2025-02-16 17:08:37 -0500 (Sun, 16 Feb 2025) EndedAt: 2025-02-16 17:08:51 -0500 (Sun, 16 Feb 2025) EllapsedTime: 13.7 seconds RetCode: 0 Status: OK PackageFile: mapscape_1.31.0.tar.gz PackageFileSize: 4.794 <A href="http://en.wikipedia.org/wiki/MiB" target="_blank">MiB</A>