Package: mapscape Version: 1.31.0 Command: /home/biocbuild/R/R/bin/R CMD build --keep-empty-dirs --no-resave-data mapscape StartedAt: 2025-01-28 23:59:42 -0000 (Tue, 28 Jan 2025) EndedAt: 2025-01-28 23:59:54 -0000 (Tue, 28 Jan 2025) EllapsedTime: 12.0 seconds RetCode: 0 Status: OK PackageFile: mapscape_1.31.0.tar.gz PackageFileSize: 4.915 MiB