Package: mapscape Version: 1.31.0 Command: /Library/Frameworks/R.framework/Resources/bin/R CMD INSTALL mapscape StartedAt: 2025-02-19 15:14:55 -0500 (Wed, 19 Feb 2025) EndedAt: 2025-02-19 15:14:56 -0500 (Wed, 19 Feb 2025) EllapsedTime: 1.2 seconds RetCode: 0 Status: OK