Package: mapscape
Version: 1.31.0
Command: rm -rf mapscape.buildbin-libdir && mkdir mapscape.buildbin-libdir && /Users/biocbuild/BBS/utils/build-universal.sh mapscape_1.31.0.tar.gz /Library/Frameworks/R.framework/Resources/bin/R mapscape.buildbin-libdir
StartedAt: 2025-02-19 22:27:22 -0500 (Wed, 19 Feb 2025)
EndedAt: 2025-02-19 22:27:24 -0500 (Wed, 19 Feb 2025)
EllapsedTime: 2.0 seconds
RetCode: 0
Status: OK
PackageFile: mapscape_1.31.0.tgz
PackageFileSize: 4.136 <A href="http://en.wikipedia.org/wiki/MiB" target="_blank">MiB</A>