Package: magpie Version: 1.7.0 Command: E:\biocbuild\bbs-3.21-bioc\R\bin\R.exe CMD INSTALL magpie StartedAt: 2025-02-19 16:53:56 -0500 (Wed, 19 Feb 2025) EndedAt: 2025-02-19 16:54:50 -0500 (Wed, 19 Feb 2025) EllapsedTime: 54.5 seconds RetCode: 0 Status: OK