Package: magpie
Version: 1.7.0
Command: E:\biocbuild\bbs-3.21-bioc\R\bin\R.exe CMD check --no-multiarch --install=check:magpie.install-out.txt --library=E:\biocbuild\bbs-3.21-bioc\R\library --no-vignettes --timings magpie_1.7.0.tar.gz
StartedAt: 2025-02-20 02:34:07 -0500 (Thu, 20 Feb 2025)
EndedAt: 2025-02-20 02:39:10 -0500 (Thu, 20 Feb 2025)
EllapsedTime: 303.2 seconds
RetCode: 0
Status: WARNINGS
CheckDir: magpie.Rcheck
Warnings: 1