Package: magpie
Version: 1.7.0
Command: chmod a+r magpie -R && E:\biocbuild\bbs-3.21-bioc\R\bin\R.exe CMD build --keep-empty-dirs --no-resave-data magpie
StartedAt: 2025-02-19 19:39:55 -0500 (Wed, 19 Feb 2025)
EndedAt: 2025-02-19 19:41:14 -0500 (Wed, 19 Feb 2025)
EllapsedTime: 78.5 seconds
RetCode: 0
Status: OK
PackageFile: magpie_1.7.0.tar.gz
PackageFileSize: 1.539 <A href="http://en.wikipedia.org/wiki/MiB" target="_blank">MiB</A>