Package: magpie
Version: 1.7.0
Command: /home/biocbuild/R/R/bin/R CMD check --install=check:magpie.install-out.txt --library=/home/biocbuild/R/R/site-library --no-vignettes --timings magpie_1.7.0.tar.gz
StartedAt: 2025-01-28 12:00:42 -0000 (Tue, 28 Jan 2025)
EndedAt: 2025-01-28 12:06:30 -0000 (Tue, 28 Jan 2025)
EllapsedTime: 347.4 seconds
RetCode: 0
Status: WARNINGS
CheckDir: magpie.Rcheck
Warnings: 1