Package: logicFS Version: 2.27.0 Command: /home/biocbuild/R/R/bin/R CMD build --keep-empty-dirs --no-resave-data logicFS StartedAt: 2025-01-28 23:56:42 -0000 (Tue, 28 Jan 2025) EndedAt: 2025-01-28 23:56:59 -0000 (Tue, 28 Jan 2025) EllapsedTime: 17.0 seconds RetCode: 0 Status: OK PackageFile: logicFS_2.27.0.tar.gz PackageFileSize: 262.7 KiB