Package: lmdme Version: 1.49.0 Command: chmod a+r lmdme -R && E:\biocbuild\bbs-3.21-bioc\R\bin\R.exe CMD build --keep-empty-dirs --no-resave-data lmdme StartedAt: 2025-01-31 19:26:07 -0500 (Fri, 31 Jan 2025) EndedAt: 2025-01-31 19:26:41 -0500 (Fri, 31 Jan 2025) EllapsedTime: 33.7 seconds RetCode: 0 Status: OK PackageFile: lmdme_1.49.0.tar.gz PackageFileSize: 611.8 KiB