Package: ldblock Version: 1.37.0 Command: /Library/Frameworks/R.framework/Resources/bin/R CMD INSTALL ldblock StartedAt: 2025-01-31 15:11:44 -0500 (Fri, 31 Jan 2025) EndedAt: 2025-01-31 15:12:09 -0500 (Fri, 31 Jan 2025) EllapsedTime: 25.2 seconds RetCode: 0 Status: OK