Package: ldblock Version: 1.37.0 Command: rm -rf ldblock.buildbin-libdir && mkdir ldblock.buildbin-libdir && /Users/biocbuild/BBS/utils/build-universal.sh ldblock_1.37.0.tar.gz /Library/Frameworks/R.framework/Resources/bin/R ldblock.buildbin-libdir StartedAt: 2025-02-01 00:23:44 -0500 (Sat, 01 Feb 2025) EndedAt: 2025-02-01 00:24:01 -0500 (Sat, 01 Feb 2025) EllapsedTime: 16.4 seconds RetCode: 0 Status: OK PackageFile: ldblock_1.37.0.tgz PackageFileSize: 40.29 MiB