Package: kebabs
Version: 1.41.0
Maintainer: Ulrich Bodenhofer
MaintainerEmail: ulrich at bodenhofer.com
git_url: https://git.bioconductor.org/packages/kebabs
git_branch: devel
git_last_commit: 56e9334
git_last_commit_date: 2024-10-29 09:56:18 -0500 (Tue, 29 Oct 2024)