Package: iterativeBMAsurv
Version: 1.65.0
Command: /home/biocbuild/bbs-3.21-bioc/R/bin/R CMD INSTALL iterativeBMAsurv
StartedAt: 2025-02-19 15:05:46 -0500 (Wed, 19 Feb 2025)
EndedAt: 2025-02-19 15:05:52 -0500 (Wed, 19 Feb 2025)
EllapsedTime: 5.8 seconds
RetCode: 0
Status: OK