Package: iterativeBMAsurv Version: 1.65.0 Command: /home/biocbuild/bbs-3.21-bioc/R/bin/R CMD check --install=check:iterativeBMAsurv.install-out.txt --library=/home/biocbuild/bbs-3.21-bioc/R/site-library --timings iterativeBMAsurv_1.65.0.tar.gz StartedAt: 2025-02-18 23:14:30 -0500 (Tue, 18 Feb 2025) EndedAt: 2025-02-18 23:15:53 -0500 (Tue, 18 Feb 2025) EllapsedTime: 83.1 seconds RetCode: 0 Status: WARNINGS CheckDir: iterativeBMAsurv.Rcheck Warnings: 1