Package: iterativeBMAsurv Version: 1.65.0 Command: /home/biocbuild/bbs-3.21-bioc/R/bin/R CMD build --keep-empty-dirs --no-resave-data iterativeBMAsurv StartedAt: 2025-02-18 17:43:30 -0500 (Tue, 18 Feb 2025) EndedAt: 2025-02-18 17:43:47 -0500 (Tue, 18 Feb 2025) EllapsedTime: 17.0 seconds RetCode: 0 Status: OK PackageFile: iterativeBMAsurv_1.65.0.tar.gz PackageFileSize: 197.5 <A href="http://en.wikipedia.org/wiki/KiB" target="_blank">KiB</A>