Package: iterativeBMAsurv Version: 1.65.0 Command: rm -rf iterativeBMAsurv.buildbin-libdir && mkdir iterativeBMAsurv.buildbin-libdir && /Users/biocbuild/BBS/utils/build-universal.sh iterativeBMAsurv_1.65.0.tar.gz /Library/Frameworks/R.framework/Resources/bin/R iterativeBMAsurv.buildbin-libdir StartedAt: 2025-02-20 00:38:06 -0500 (Thu, 20 Feb 2025) EndedAt: 2025-02-20 00:38:18 -0500 (Thu, 20 Feb 2025) EllapsedTime: 11.4 seconds RetCode: 0 Status: OK PackageFile: iterativeBMAsurv_1.65.0.tgz PackageFileSize: 275 <A href="http://en.wikipedia.org/wiki/KiB" target="_blank">KiB</A>