Package: immApex Version: 1.1.0 Command: /Library/Frameworks/R.framework/Resources/bin/R CMD INSTALL immApex StartedAt: 2025-02-19 15:11:21 -0500 (Wed, 19 Feb 2025) EndedAt: 2025-02-19 15:11:54 -0500 (Wed, 19 Feb 2025) EllapsedTime: 33.2 seconds RetCode: 0 Status: OK