Package: immApex
Version: 1.1.0
Command: /Library/Frameworks/R.framework/Resources/bin/R CMD check --install=check:immApex.install-out.txt --library=/Library/Frameworks/R.framework/Resources/library --no-vignettes --timings immApex_1.1.0.tar.gz
StartedAt: 2025-02-19 21:06:14 -0500 (Wed, 19 Feb 2025)
EndedAt: 2025-02-19 21:25:55 -0500 (Wed, 19 Feb 2025)
EllapsedTime: 1181.0 seconds
RetCode: 1
Status: ERROR
CheckDir: immApex.Rcheck
Warnings: NA