Package: immApex
Version: 1.1.0
Command: /Library/Frameworks/R.framework/Resources/bin/R CMD build --keep-empty-dirs --no-resave-data immApex
StartedAt: 2025-02-19 17:04:05 -0500 (Wed, 19 Feb 2025)
EndedAt: 2025-02-19 17:06:44 -0500 (Wed, 19 Feb 2025)
EllapsedTime: 159.0 seconds
RetCode: 0
Status: OK
PackageFile: immApex_1.1.0.tar.gz
PackageFileSize: 2.904 <A href="http://en.wikipedia.org/wiki/MiB" target="_blank">MiB</A>