Package: immApex Version: 1.1.0 Command: /Library/Frameworks/R.framework/Resources/bin/R CMD INSTALL immApex StartedAt: 2025-02-19 15:05:25 -0500 (Wed, 19 Feb 2025) EndedAt: 2025-02-19 15:05:36 -0500 (Wed, 19 Feb 2025) EllapsedTime: 10.2 seconds RetCode: 0 Status: OK