Package: illuminaio
Version: 0.49.0
Maintainer: Kasper Daniel Hansen
MaintainerEmail: kasperdanielhansen at gmail.com
git_url: https://git.bioconductor.org/packages/illuminaio
git_branch: devel
git_last_commit: 6a685ff
git_last_commit_date: 2024-10-29 09:43:24 -0500 (Tue, 29 Oct 2024)