Package: iSEEu
Version: 1.19.0
Maintainer: Kevin Rue-Albrecht
MaintainerEmail: kevinrue67 at gmail.com
git_url: https://git.bioconductor.org/packages/iSEEu
git_branch: devel
git_last_commit: 4869642
git_last_commit_date: 2024-10-29 10:45:44 -0500 (Tue, 29 Oct 2024)