Package: iPath
Version: 1.13.0
Command: /home/biocbuild/bbs-3.21-bioc/R/bin/R CMD INSTALL iPath
StartedAt: 2025-02-19 15:11:14 -0500 (Wed, 19 Feb 2025)
EndedAt: 2025-02-19 15:11:37 -0500 (Wed, 19 Feb 2025)
EllapsedTime: 23.4 seconds
RetCode: 0
Status: OK