Package: iPath Version: 1.13.0 Command: /home/biocbuild/bbs-3.21-bioc/R/bin/R CMD build --keep-empty-dirs --no-resave-data iPath StartedAt: 2025-02-19 17:46:04 -0500 (Wed, 19 Feb 2025) EndedAt: 2025-02-19 17:46:37 -0500 (Wed, 19 Feb 2025) EllapsedTime: 33.0 seconds RetCode: 0 Status: OK PackageFile: iPath_1.13.0.tar.gz PackageFileSize: 2.974 <A href="http://en.wikipedia.org/wiki/MiB" target="_blank">MiB</A>