Package: iPath
Version: 1.13.0
Command: /Library/Frameworks/R.framework/Resources/bin/R CMD INSTALL iPath
StartedAt: 2025-02-19 15:29:18 -0500 (Wed, 19 Feb 2025)
EndedAt: 2025-02-19 15:29:24 -0500 (Wed, 19 Feb 2025)
EllapsedTime: 6.2 seconds
RetCode: 0
Status: OK