Package: iPath
Version: 1.13.0
Command: /Library/Frameworks/R.framework/Resources/bin/R CMD check --install=check:iPath.install-out.txt --library=/Library/Frameworks/R.framework/Resources/library --no-vignettes --timings iPath_1.13.0.tar.gz
StartedAt: 2025-02-19 19:52:00 -0500 (Wed, 19 Feb 2025)
EndedAt: 2025-02-19 19:52:45 -0500 (Wed, 19 Feb 2025)
EllapsedTime: 45.5 seconds
RetCode: 0
Status: OK
CheckDir: iPath.Rcheck
Warnings: 0