Package: iPath
Version: 1.13.0
Command: /Library/Frameworks/R.framework/Resources/bin/R CMD build --keep-empty-dirs --no-resave-data iPath
StartedAt: 2025-02-19 16:44:22 -0500 (Wed, 19 Feb 2025)
EndedAt: 2025-02-19 16:44:36 -0500 (Wed, 19 Feb 2025)
EllapsedTime: 14.2 seconds
RetCode: 0
Status: OK
PackageFile: iPath_1.13.0.tar.gz
PackageFileSize: 2.989 <A href="http://en.wikipedia.org/wiki/MiB" target="_blank">MiB</A>