Package: iCheck
Version: 1.37.0
Maintainer: Weiliang Qiu
MaintainerEmail: stwxq at channing.harvard.edu
git_url: https://git.bioconductor.org/packages/iCheck
git_branch: devel
git_last_commit: 3a391bf
git_last_commit_date: 2024-10-29 10:04:12 -0500 (Tue, 29 Oct 2024)