Package: iBBiG Version: 1.51.0 Command: E:\biocbuild\bbs-3.21-bioc\R\bin\R.exe CMD INSTALL iBBiG StartedAt: 2025-02-19 16:45:49 -0500 (Wed, 19 Feb 2025) EndedAt: 2025-02-19 16:46:08 -0500 (Wed, 19 Feb 2025) EllapsedTime: 19.4 seconds RetCode: 0 Status: OK