Package: iBBiG
Version: 1.51.0
Command: rm -rf iBBiG.buildbin-libdir && mkdir iBBiG.buildbin-libdir && E:\biocbuild\bbs-3.21-bioc\R\bin\R.exe CMD INSTALL --build --library=iBBiG.buildbin-libdir iBBiG_1.51.0.tar.gz
StartedAt: 2025-02-20 07:58:53 -0500 (Thu, 20 Feb 2025)
EndedAt: 2025-02-20 07:59:19 -0500 (Thu, 20 Feb 2025)
EllapsedTime: 26.4 seconds
RetCode: 0
Status: OK
PackageFile: iBBiG_1.51.0.zip
PackageFileSize: 1.097 <A href="http://en.wikipedia.org/wiki/MiB" target="_blank">MiB</A>