##############################################################################
##############################################################################
###
### Running command:
###
###   rm -rf iBBiG.buildbin-libdir && mkdir iBBiG.buildbin-libdir && E:\biocbuild\bbs-3.21-bioc\R\bin\R.exe CMD INSTALL --build --library=iBBiG.buildbin-libdir iBBiG_1.51.0.tar.gz
###
##############################################################################
##############################################################################


* installing *source* package 'iBBiG' ...
** this is package 'iBBiG' version '1.51.0'
** using staged installation
** libs
using C compiler: 'gcc.exe (GCC) 13.3.0'
gcc  -I"E:/biocbuild/bbs-3.21-bioc/R/include" -DNDEBUG     -I"C:/rtools44/x86_64-w64-mingw32.static.posix/include"      -O2 -Wall  -mfpmath=sse -msse2 -mstackrealign   -c R_init_iBBiG.c -o R_init_iBBiG.o
gcc  -I"E:/biocbuild/bbs-3.21-bioc/R/include" -DNDEBUG     -I"C:/rtools44/x86_64-w64-mingw32.static.posix/include"      -O2 -Wall  -mfpmath=sse -msse2 -mstackrealign   -c iBBiG.c -o iBBiG.o
gcc -shared -s -static-libgcc -o iBBiG.dll tmp.def R_init_iBBiG.o iBBiG.o -LC:/rtools44/x86_64-w64-mingw32.static.posix/lib/x64 -LC:/rtools44/x86_64-w64-mingw32.static.posix/lib -LE:/biocbuild/bbs-3.21-bioc/R/bin/x64 -lR
installing to E:/biocbuild/bbs-3.21-bioc/meat/iBBiG.buildbin-libdir/00LOCK-iBBiG/00new/iBBiG/libs/x64
** R
** inst
** byte-compile and prepare package for lazy loading
** help
*** installing help indices
** building package indices
** installing vignettes
** testing if installed package can be loaded from temporary location
** testing if installed package can be loaded from final location
** testing if installed package keeps a record of temporary installation path
* MD5 sums
packaged installation of 'iBBiG' as iBBiG_1.51.0.zip
* DONE (iBBiG)