Package: iBBiG
Version: 1.51.0
Command: /Library/Frameworks/R.framework/Resources/bin/R CMD INSTALL iBBiG
StartedAt: 2025-02-19 15:37:37 -0500 (Wed, 19 Feb 2025)
EndedAt: 2025-02-19 15:37:49 -0500 (Wed, 19 Feb 2025)
EllapsedTime: 11.3 seconds
RetCode: 0
Status: OK