Package: iBBiG
Version: 1.51.0
Command: /home/biocbuild/R/R/bin/R CMD INSTALL iBBiG
StartedAt: 2025-01-29 20:26:23 -0000 (Wed, 29 Jan 2025)
EndedAt: 2025-01-29 20:26:33 -0000 (Wed, 29 Jan 2025)
EllapsedTime: 9.9 seconds
RetCode: 0
Status: OK