Package: iBBiG
Version: 1.51.0
Command: /home/biocbuild/R/R/bin/R CMD check --install=check:iBBiG.install-out.txt --library=/home/biocbuild/R/R/site-library --no-vignettes --timings iBBiG_1.51.0.tar.gz
StartedAt: 2025-01-28 11:34:49 -0000 (Tue, 28 Jan 2025)
EndedAt: 2025-01-28 11:37:07 -0000 (Tue, 28 Jan 2025)
EllapsedTime: 138.2 seconds
RetCode: 0
Status: OK
CheckDir: iBBiG.Rcheck
Warnings: 0