Package: hypergraph Version: 1.79.0 Command: E:\biocbuild\bbs-3.21-bioc\R\bin\R.exe CMD INSTALL hypergraph StartedAt: 2025-01-28 15:22:05 -0500 (Tue, 28 Jan 2025) EndedAt: 2025-01-28 15:22:30 -0500 (Tue, 28 Jan 2025) EllapsedTime: 24.9 seconds RetCode: 0 Status: OK