Package: hypergraph Version: 1.79.0 Command: /home/biocbuild/bbs-3.21-bioc/R/bin/R CMD INSTALL hypergraph StartedAt: 2025-02-04 15:11:55 -0500 (Tue, 04 Feb 2025) EndedAt: 2025-02-04 15:11:59 -0500 (Tue, 04 Feb 2025) EllapsedTime: 3.9 seconds RetCode: 0 Status: OK