Package: hypergraph Version: 1.79.0 Command: rm -rf hypergraph.buildbin-libdir && mkdir hypergraph.buildbin-libdir && /Users/biocbuild/BBS/utils/build-universal.sh hypergraph_1.79.0.tar.gz /Library/Frameworks/R.framework/Resources/bin/R hypergraph.buildbin-libdir StartedAt: 2025-02-04 22:19:32 -0500 (Tue, 04 Feb 2025) EndedAt: 2025-02-04 22:19:34 -0500 (Tue, 04 Feb 2025) EllapsedTime: 2.1 seconds RetCode: 0 Status: OK PackageFile: hypergraph_1.79.0.tgz PackageFileSize: 168.7 KiB