Package: hummingbird Version: 1.17.0 Command: chmod a+r hummingbird -R && E:\biocbuild\bbs-3.21-bioc\R\bin\R.exe CMD build --keep-empty-dirs --no-resave-data hummingbird StartedAt: 2025-01-31 19:08:25 -0500 (Fri, 31 Jan 2025) EndedAt: 2025-01-31 19:08:31 -0500 (Fri, 31 Jan 2025) EllapsedTime: 5.8 seconds RetCode: 1 Status: ERROR PackageFile: None PackageFileSize: NA