Package: hipathia
Version: 3.7.0
Command: E:\biocbuild\bbs-3.21-bioc\R\bin\R.exe CMD INSTALL hipathia
StartedAt: 2025-02-19 16:56:23 -0500 (Wed, 19 Feb 2025)
EndedAt: 2025-02-19 16:58:36 -0500 (Wed, 19 Feb 2025)
EllapsedTime: 132.9 seconds
RetCode: 0
Status: OK